BEGIN:VCALENDAR
VERSION:2.0
PRODID:-//Ever Increasing Ministries - ECPv6.15.20//NONSGML v1.0//EN
CALSCALE:GREGORIAN
METHOD:PUBLISH
X-WR-CALNAME:Ever Increasing Ministries
X-ORIGINAL-URL:https://myeim.org
X-WR-CALDESC:Events for Ever Increasing Ministries
REFRESH-INTERVAL;VALUE=DURATION:PT1H
X-Robots-Tag:noindex
X-PUBLISHED-TTL:PT1H
BEGIN:VTIMEZONE
TZID:America/Edmonton
BEGIN:DAYLIGHT
TZOFFSETFROM:-0700
TZOFFSETTO:-0600
TZNAME:MDT
DTSTART:20250309T090000
END:DAYLIGHT
BEGIN:STANDARD
TZOFFSETFROM:-0600
TZOFFSETTO:-0700
TZNAME:MST
DTSTART:20251102T080000
END:STANDARD
BEGIN:DAYLIGHT
TZOFFSETFROM:-0700
TZOFFSETTO:-0600
TZNAME:MDT
DTSTART:20260308T090000
END:DAYLIGHT
BEGIN:STANDARD
TZOFFSETFROM:-0600
TZOFFSETTO:-0700
TZNAME:MST
DTSTART:20261101T080000
END:STANDARD
BEGIN:DAYLIGHT
TZOFFSETFROM:-0700
TZOFFSETTO:-0600
TZNAME:MDT
DTSTART:20270314T090000
END:DAYLIGHT
BEGIN:STANDARD
TZOFFSETFROM:-0600
TZOFFSETTO:-0700
TZNAME:MST
DTSTART:20271107T080000
END:STANDARD
END:VTIMEZONE
BEGIN:VEVENT
DTSTART;VALUE=DATE:20260604
DTEND;VALUE=DATE:20260608
DTSTAMP:20260424T060209
CREATED:20260421T124738Z
LAST-MODIFIED:20260422T010532Z
UID:5453-1780531200-1780876799@myeim.org
SUMMARY:Ignite Nations Global Leadership Advance 2026 - Grateful
DESCRIPTION:
URL:https://myeim.org/event/leadership-advance-2026-grateful/
LOCATION:Calgary Rotary Challenger Park Society\, 3688 48 Avenue NE\, Calgary\, Alberta\, T3J 5C8\, Canada
ATTACH;FMTTYPE=image/jpeg:https://myeim.org/wp-content/uploads/2026/04/1000031220.jpg
ORGANIZER;CN="Bishop Dr. Greg Gill & Bishop Dr. Diana Gill":MAILTO:info@myeim.org
END:VEVENT
END:VCALENDAR